BEGIN:VCALENDAR
CALSCALE:GREGORIAN
METHOD:PUBLISH
VERSION:2.0
PRODID:-//iCalWriter OpenSource Project//iCalWriter 0.8.1//EN
BEGIN:VEVENT
DTSTAMP:20260423T223939Z
UID:1776983979gROE@stassfurt.brain-scc.de
DTSTART:20260423T103000
DTEND;VALUE=DATE:20260423
SUMMARY:Patientenverfügung und Vorsorgevollmacht
DESCRIPTION:
LOCATION:Treffpunkt Nord 39418 Staßfurt
URL:https://stassfurt.brain-scc.de/de/veranstaltung-detail/event/109336,1065/patientenverfuegung-und-vorsorgevollmacht-23-04-2026.html
ATTACH:https://stassfurt.brain-scc.de/de/datei/anzeigen/id/109338,1065/vk_sftnord.jpg
END:VEVENT
END:VCALENDAR
