BEGIN:VCALENDAR
CALSCALE:GREGORIAN
METHOD:PUBLISH
VERSION:2.0
PRODID:-//iCalWriter OpenSource Project//iCalWriter 0.8.1//EN
BEGIN:VEVENT
DTSTAMP:20260424T115848Z
UID:1777031928uweF@stassfurt.brain-scc.de
DTSTART:20240917T080000
DTEND:20240917T140000
SUMMARY:Staßfurter Wochenmarkt
DESCRIPTION:Jeden Dienstag und Freitag von 8.00 - 14.00 Uhr auf dem Benneckeschen Hof Staßfurt.
LOCATION:Benneckescher Hof 39418 Staßfurt
Stadt Staßfurt 39418 Staßfurt
URL:http://stassfurt.brain-scc.de/de/veranstaltung-detail/event/87540,1065/stassfurter-wochenmarkt-17-09-2024.html
ATTACH:http://stassfurt.brain-scc.de/de/datei/anzeigen/id/90800,1065/wochenmarkt-kachel.jpg
END:VEVENT
END:VCALENDAR
