BEGIN:VCALENDAR
CALSCALE:GREGORIAN
METHOD:PUBLISH
VERSION:2.0
PRODID:-//iCalWriter OpenSource Project//iCalWriter 0.8.1//EN
BEGIN:VEVENT
DTSTAMP:20260423T152856Z
UID:1776958136YKNs@stassfurt.brain-scc.de
DTSTART:20260424T140000
DTEND:20260424T180000
SUMMARY:Tag der offenen Baustelle
DESCRIPTION:Baumaschinen in Aktion, Tiefbau erleben! Wie kommen die Stromkabel in den Boden? Welche Technik kommt zum Einsatz? Wie wird die Umwelt geschützt? Das zeigt 50Hertz an einer Baustelle des SuedOstLinks zwischen Hohenerxleben (Ortsteil von Staßfurt) und Neugattersleben (Ortsteil von Nienburg). Auf die Gäste wartet ein Programm mit: Infoständen rund um das Vorhaben, den Menschen und Unternehmen hinter dem Projekt, interaktiver 3D-Bagger-Simulation, Familienprogramm mit Kinderschminken und Eis-Bike sowie kostenlos Leckerem vom Foodtruck. Bitte tragen Sie festes Schuhwerk. Wir freuen uns auf Sie!
Parken: Bitte nutzen Sie den Parkplatz an der Baustelleneinrichtung an der Landesstraße 73 nahe Autobahn 14, Abfahrt Staßfurt. Von dort fährt ein Shuttlebus regelmäßig zur Baustelle.
Den Parkplatz finden Sie mit diesem Google Pin: 51°51'01.9"N 11°40'53.5"E.
 https://www.50hertz.com/de/Netz/Netzausbau/ProjekteanLand/SuedOstLink/Baustellentage
LOCATION:L 73 zwischen Hohenerxleben und Neugatterleben 39418 Staßfurt
URL:http://stassfurt.brain-scc.de/de/veranstaltung-detail/event/109473,1065/tag-der-offenen-baustelle-24-04-2026.html
ATTACH:http://stassfurt.brain-scc.de/de/datei/anzeigen/id/109475,1065/50hertz.jpg
END:VEVENT
END:VCALENDAR
