BEGIN:VCALENDAR
CALSCALE:GREGORIAN
METHOD:PUBLISH
VERSION:2.0
PRODID:-//iCalWriter OpenSource Project//iCalWriter 0.8.1//EN
BEGIN:VEVENT
DTSTAMP:20260423T135319Z
UID:1776952399zopA@stassfurt.brain-scc.de
DTSTART:20260501T100000
DTEND:20260501T180000
SUMMARY:Kirschblütenfest
DESCRIPTION:
LOCATION:Benneckescher Hof 39418 Staßfurt
URL:http://stassfurt.brain-scc.de/de/veranstaltung-detail/event/109460,1065/kirschbluetenfest-01-05-2026.html
ATTACH:http://stassfurt.brain-scc.de/de/datei/anzeigen/id/109461,1065/kirschbl_te.jpg
END:VEVENT
END:VCALENDAR
