BEGIN:VCALENDAR
CALSCALE:GREGORIAN
METHOD:PUBLISH
VERSION:2.0
PRODID:-//iCalWriter OpenSource Project//iCalWriter 0.8.1//EN
BEGIN:VEVENT
DTSTAMP:20260424T094544Z
UID:1777023944BgRh@stassfurt.brain-scc.de
DTSTART:20260912T130000
DTEND:20260912T170000
SUMMARY:Sommerfest im Tiergarten
DESCRIPTION:Hüpfburg, DJ, Kuchenstände, Bastel- und Schminkstände und vieles mehr.
LOCATION:Tiergarten Staßfurt 39418 Staßfurt
URL:http://stassfurt.brain-scc.de/de/veranstaltung-detail/event/109229,1065/sommerfest-im-tiergarten-12-09-2026.html
ATTACH:http://stassfurt.brain-scc.de/de/datei/anzeigen/id/109230,1065/tiergarten.jpg
END:VEVENT
END:VCALENDAR
