BEGIN:VCALENDAR
CALSCALE:GREGORIAN
METHOD:PUBLISH
VERSION:2.0
PRODID:-//iCalWriter OpenSource Project//iCalWriter 0.8.1//EN
BEGIN:VEVENT
DTSTAMP:20260424T135228Z
UID:177703874823p9@stassfurt.brain-scc.de
DTSTART:20260623T150000
DTEND:20260623T180000
SUMMARY:Schultütenfest
DESCRIPTION:Versuchs- und Bastelstände
LOCATION:Tiergarten Staßfurt 39418 Staßfurt
URL:http://stassfurt.brain-scc.de/de/veranstaltung-detail/event/109225,1065/schultuetenfest-23-06-2026.html
ATTACH:http://stassfurt.brain-scc.de/de/datei/anzeigen/id/109226,1065/tiergarten.jpg
END:VEVENT
END:VCALENDAR
